BEGIN:VCALENDAR
VERSION:2.0
PRODID:-//Texas Veterans Commission - ECPv5.1.6//NONSGML v1.0//EN
CALSCALE:GREGORIAN
METHOD:PUBLISH
X-WR-CALNAME:Texas Veterans Commission
X-ORIGINAL-URL:https://www.tvc.texas.gov
X-WR-CALDESC:Events for Texas Veterans Commission
BEGIN:VTIMEZONE
TZID:America/Chicago
BEGIN:DAYLIGHT
TZOFFSETFROM:-0600
TZOFFSETTO:-0500
TZNAME:CDT
DTSTART:20210314T080000
END:DAYLIGHT
BEGIN:STANDARD
TZOFFSETFROM:-0500
TZOFFSETTO:-0600
TZNAME:CST
DTSTART:20211107T070000
END:STANDARD
END:VTIMEZONE
BEGIN:VEVENT
DTSTART;TZID=America/Chicago:20210414T103000
DTEND;TZID=America/Chicago:20210414T113000
DTSTAMP:20210514T054110
CREATED:20210323T205231Z
LAST-MODIFIED:20210323T205231Z
UID:65743-1618396200-1618399800@www.tvc.texas.gov
SUMMARY:TVC Women Veterans Program Financial Wellness Series - USAA
DESCRIPTION:Click HERE to RSVP
URL:https://www.tvc.texas.gov/event/tvc-women-veterans-program-financial-wellness-series-usaa/
LOCATION:1700 N. Congress Ave.\, Suite 800\, Austin\, TX\, 78701\, United States
CATEGORIES:Women Veterans
ATTACH;FMTTYPE=image/jpeg:https://www.tvc.texas.gov/wp-content/uploads/2021/03/WVP-Financial-Wellness-Flyer-USAA-4.14.2021-1-scaled.jpg
GEO:30.2791133;-97.7394643
X-APPLE-STRUCTURED-LOCATION;VALUE=URI;X-ADDRESS=1700 N. Congress Ave. Suite 800 Austin TX 78701 United States;X-APPLE-RADIUS=500;X-TITLE=1700 N. Congress Ave.\, Suite 800:geo:-97.7394643,30.2791133
END:VEVENT
END:VCALENDAR