BEGIN:VCALENDAR
VERSION:2.0
PRODID:-//Texas Veterans Commission - ECPv5.1.6//NONSGML v1.0//EN
CALSCALE:GREGORIAN
METHOD:PUBLISH
X-WR-CALNAME:Texas Veterans Commission
X-ORIGINAL-URL:https://www.tvc.texas.gov
X-WR-CALDESC:Events for Texas Veterans Commission
BEGIN:VTIMEZONE
TZID:America/Chicago
BEGIN:DAYLIGHT
TZOFFSETFROM:-0600
TZOFFSETTO:-0500
TZNAME:CDT
DTSTART:20210314T080000
END:DAYLIGHT
BEGIN:STANDARD
TZOFFSETFROM:-0500
TZOFFSETTO:-0600
TZNAME:CST
DTSTART:20211107T070000
END:STANDARD
END:VTIMEZONE
BEGIN:VEVENT
DTSTART;TZID=America/Chicago:20210428T130000
DTEND;TZID=America/Chicago:20210428T140000
DTSTAMP:20210811T100137
CREATED:20210422T201514Z
LAST-MODIFIED:20210422T201514Z
UID:68390-1619614800-1619618400@www.tvc.texas.gov
SUMMARY:L3 Harris Virtual Employer Showcase
DESCRIPTION:L3 Harris Employer Showcase will provide insight to the company’s overview and culture\, available employment opportunities\, employee benefits summary\, tips on how to apply\, application process. Individuals will have the opportunity to ask questions directly to L3 Harris Team. \nTo register click HERE \nFor more information regarding the L3Harris Virtual Employer Showcase\, please contact: \nKelly.Cameron@tvc.texas.gov\nor\nMaria.DeLaLuzGonzalez@tvc.texas.gov
URL:https://www.tvc.texas.gov/event/l3-harris-virtual-employer-showcase/
LOCATION:Online Event\, Online\, United States
CATEGORIES:Employment,General veteran events,Women Veterans
ATTACH;FMTTYPE=image/jpeg:https://www.tvc.texas.gov/wp-content/uploads/2021/04/L3-Harris-Employer-Showcase-April-28..jpg
ORGANIZER;CN="Texas%20Veterans%20Commission%20%28VES%20Central%29":MAILTO:ray.hartmann@tvc.texas.gov
GEO:31.9685988;-99.9018131
X-APPLE-STRUCTURED-LOCATION;VALUE=URI;X-ADDRESS=Online Event Online United States;X-APPLE-RADIUS=500;X-TITLE=Online:geo:-99.9018131,31.9685988
END:VEVENT
END:VCALENDAR