BEGIN:VCALENDAR
VERSION:2.0
PRODID:-//Texas Veterans Commission - ECPv5.1.6//NONSGML v1.0//EN
CALSCALE:GREGORIAN
METHOD:PUBLISH
X-WR-CALNAME:Texas Veterans Commission
X-ORIGINAL-URL:https://www.tvc.texas.gov
X-WR-CALDESC:Events for Texas Veterans Commission
BEGIN:VTIMEZONE
TZID:America/Chicago
BEGIN:DAYLIGHT
TZOFFSETFROM:-0600
TZOFFSETTO:-0500
TZNAME:CDT
DTSTART:20210314T080000
END:DAYLIGHT
BEGIN:STANDARD
TZOFFSETFROM:-0500
TZOFFSETTO:-0600
TZNAME:CST
DTSTART:20211107T070000
END:STANDARD
END:VTIMEZONE
BEGIN:VEVENT
DTSTART;TZID=America/Chicago:20210327T100000
DTEND;TZID=America/Chicago:20210327T120000
DTSTAMP:20210625T000930
CREATED:20210202T200758Z
LAST-MODIFIED:20210202T200758Z
UID:62943-1616839200-1616846400@www.tvc.texas.gov
SUMMARY:Free Veterans Entrepreneurship Program
DESCRIPTION:Houston Community College just launched a free entrepreneurship program for Veterans and their families.\nA collaboration with University of St. Thomas McNair Center for Free Enterprise & Entrepreneurship. \nThe Veterans Entrepreneurship Program (VEP) is designed to help veterans start and grow a small business.\nGet free digital skills training on stage one\, get a certificate on stage two\, and get ready on stage three for Pitch competition to win seed capital and scholarships! \nRegister Here For Stage One\nClick Here to Learn More About The Full VEP program \nCheck out our VEP advisory members\, Action team members\, outreach partners:\nVEP Board & Partners | Houston Community College – HCC (hccs.edu) \nWorkshops program – Stage 1\nCybersecurity [Feb. 6]\nMicrosoft 365 security management\, Microsoft 365 compliance management\, and Microsoft 365 device management. In Microsoft 365 security management\, examine all the common types of threat vectors and data breaches facing organizations today.\n02-06-2021\, 10:00 am to 12:00 pm (America / Chicago) \nLinkedIn Learning [Feb. 13]\nLinkedIn Learning’s library for each learning path also includes collaborative courses\, all taught by industry-expert instructors\, allowing individuals to move through content and demonstrate their learning with a certificate of completion.\n02-05-2021\, 10:00 am to 12:00 pm (America / Chicago) \nSway & OneNote [Feb. 20]\nSeveral tools put out by Microsoft have the ability to connect and create together – doing something which will make users of both these productivity tools very happy! OneNote Send to Sway add in makes it easy to create a Sway presentation straight from your OneNote notebook.\n02-20-2021\, 10:00 am to 12:00 pm (America / Chicago) \nOneDrive [Feb. 27]\nOneDrive gives you one place to store\, share\, and sync your work or business files.\n02-27-2021\, 10:00 am to 12:00 pm (America / Chicago) \nPower Platform [March 6]\nThe Microsoft Power Platform is more than the sum of its parts. Connect them together—and to Office 365\, Dynamics 365\, Azure\, and hundreds of other apps—and build end-to-end business solutions\n03-06-2021\, 10:00 am to 12:00 pm (America / Chicago) \nKey Steps to Starting your Business [March 27]Start a business on the side while This session will guide participants through brainstorming potential business ideas\, creating the outline for their business plan\, and considering how to plan\, market\, advertise\, manufacture\, and deliver a product or service.\n03-27-2021\, 10:00 am to 12:00 pm (America / Chicago) \nThe Veterans Entrepreneurship Program (VEP) is designed to accelerate the process to business ownership with direct access to digital skills\, business training\, programs and local resources necessary to guide every step of entrepreneurship. This integrated three-stage program covers the key elements of gaining 21st century digital skills\, building practical small business and entrepreneurship skills\, and offers an innovative combination local resources and support structure to launch and grow businesses! \nRegistration Questions?\nContact HCC Community Learning Program\n713-718-5350\ndana.sturdevant@hccs.edu \n  \n 
URL:https://www.tvc.texas.gov/event/free-veterans-entrepreneurship-program-houston-community-college-spring-2021/2021-03-27/
LOCATION:Online Event\, Online\, United States
CATEGORIES:Education,Entrepreneurs
ATTACH;FMTTYPE=image/jpeg:https://www.tvc.texas.gov/wp-content/uploads/2021/02/12142020.MCSR21-12852.HCC-VEP-FINAL_flier-1-scaled.jpg
GEO:31.9685988;-99.9018131
X-APPLE-STRUCTURED-LOCATION;VALUE=URI;X-ADDRESS=Online Event Online United States;X-APPLE-RADIUS=500;X-TITLE=Online:geo:-99.9018131,31.9685988
END:VEVENT
END:VCALENDAR