BEGIN:VCALENDAR
VERSION:2.0
PRODID:-//Texas Veterans Commission - ECPv5.1.6//NONSGML v1.0//EN
CALSCALE:GREGORIAN
METHOD:PUBLISH
X-WR-CALNAME:Texas Veterans Commission
X-ORIGINAL-URL:https://www.tvc.texas.gov
X-WR-CALDESC:Events for Texas Veterans Commission
BEGIN:VTIMEZONE
TZID:America/Chicago
BEGIN:DAYLIGHT
TZOFFSETFROM:-0600
TZOFFSETTO:-0500
TZNAME:CDT
DTSTART:20210314T080000
END:DAYLIGHT
BEGIN:STANDARD
TZOFFSETFROM:-0500
TZOFFSETTO:-0600
TZNAME:CST
DTSTART:20211107T070000
END:STANDARD
END:VTIMEZONE
BEGIN:VEVENT
DTSTART;TZID=America/Chicago:20210515T110000
DTEND;TZID=America/Chicago:20210515T140000
DTSTAMP:20210715T005942
CREATED:20210303T171640Z
LAST-MODIFIED:20210303T171640Z
UID:64285-1621076400-1621087200@www.tvc.texas.gov
SUMMARY:Armed Forces Day Celebration
DESCRIPTION:Veterans of Foreign Wars (VFW) Post 6441 in Wimberley\, Texas celebrates Armed Forces Day 2021 with a free meal for all active duty military and veterans and their family members/survivors.
URL:https://www.tvc.texas.gov/event/armed-forces-day-celebration/
LOCATION:VFW Post 6441\, Jacobs Well Rd\, Wimberley\, TX\, 401 Jacobs Well Rd\, Wimberley\, 78676
CATEGORIES:General veteran events
ORGANIZER;CN="VFW%20Post%206441":MAILTO:vetsdayfair@gmail.com
GEO:30.0424018;-98.1083858
X-APPLE-STRUCTURED-LOCATION;VALUE=URI;X-ADDRESS=VFW Post 6441 Jacobs Well Rd Wimberley TX 401 Jacobs Well Rd Wimberley 78676;X-APPLE-RADIUS=500;X-TITLE=401 Jacobs Well Rd:geo:-98.1083858,30.0424018
END:VEVENT
END:VCALENDAR